BEGIN:VCALENDAR
VERSION:2.0
PRODID:-//ColyBreath - ECPv6.11.2//NONSGML v1.0//EN
CALSCALE:GREGORIAN
METHOD:PUBLISH
X-WR-CALNAME:ColyBreath
X-ORIGINAL-URL:https://www.colybreath.com
X-WR-CALDESC:Events for ColyBreath
REFRESH-INTERVAL;VALUE=DURATION:PT1H
X-Robots-Tag:noindex
X-PUBLISHED-TTL:PT1H
BEGIN:VTIMEZONE
TZID:UTC
BEGIN:STANDARD
TZOFFSETFROM:+0000
TZOFFSETTO:+0000
TZNAME:UTC
DTSTART:20250101T000000
END:STANDARD
END:VTIMEZONE
BEGIN:VEVENT
DTSTART;TZID=UTC:20250920T100000
DTEND;TZID=UTC:20250921T130000
DTSTAMP:20260422T185648
CREATED:20250430T115740Z
LAST-MODIFIED:20250430T115740Z
UID:282269-1758362400-1758459600@www.colybreath.com
SUMMARY:RISVEGLIA LA TUA MEMORIA INDIGENA – INIZIAZIONE BRAUNAU 20/21 Settembre 2025
DESCRIPTION:INIZIAZIONE: ERWECKE DEINE INDIGENE ERINNERUNG \n20/21 SEPT 2025 – BRAUNAU \nDen Ursprung deiner Seele erreichen\, um deine Essenz zu erwecken\nHast Du jemals eine uralte Weisheit in Dir gespürt\, ein Echo vergangener Leben\, das darauf wartet\, wiederentdeckt zu werden? \nDieses Seminar ist mehr als nur ein Treffen: \nEs ist eine Einweihung\, eine Rückkehr zu Deinem authentischen Wesen.\nDurch tiefe und transformative Praktiken werden wir gemeinsam die Erinnerungen der Vorfahren wecken\, die in Dir schlummern\, Vermächtnisse von Erfahrungen\, die in Deinem Wesen gelebt undseit Generationen bewahrt wurden. Wir bestehen aus dem gleichen Stoff wie die Sterne. In unserem Inneren leuchten die Spuren eines ewigen Wissens\, das uns leitet in diesem entscheidenden Moment der Menschheitsgeschichte. \nWonach suchst Du? \nEine tiefe Verbindung mit Deinem inneren „Eingeborenen”: dem Teil von Dir\, der Stärke\, Widerstandsfähigkeit und Weisheit bewahrt\, die durch gewonnene und verlorene\, aber vergessene Schlachten entstanden sind.\nVerstehe\, dass Leben Erfahrung und Wachstum bedeutet und dass nichts ein Herz aufhalten kann\, das in seiner eigenen Natur verwurzelt ist. Vertraue Deiner inneren Stimme\, die Dich in jedem Moment Deines Lebens führt. \nDieses Seminar ist eine Einladung\, Deine authentische Kraft wiederzuentdecken\, sich an Ihr angestammtes Erbe zu erinnern und es zu Deinem Leitfaden für die Bewältigung der Herausforderungen der Gegenwart zu machen. Es ist ein Erwachen\, eine Rückkehr nach Hause\, eine Feier Deiner Herkunft. \nEntdecke\, wie Du Dich wieder mit Deinen Wurzeln verbinden kannst\, um mit Weisheit\, Mut und Klarheit in die Zukunft zu gehen. \nEs ist nicht nur ein Seminar.\nEs ist eine Wiedergeburt. \nBehandelte Themen: \n\n  Höhere Bewusstseinszustände\n  Physischer Tod und Ewigkeit\n  Uberwindung der Angst\n  Verbindung mit alten Linien\n  Sich mit dem Schicksal der Erde in Einklang bringen\n  Das Erwecken des indigenen\n  Gedächtnisses Transformiere deinen Körper und deine Stimme\n  Die Essenz der Heilung\n  Das Leben zelebrieren\n\n*Begrenzte Plätze\nInfo und Buchung: GABI +43 676 5942018 \nSe siete interessati\, prenotate una telefonata iniziale gratuita con il nostro consulente di riferimento per saperne di più sull’evento e se questo è adatto a voi.
URL:https://www.colybreath.com/event/iniziazione-risveglia-la-tua-memoria-indigena-austria-braunau/
CATEGORIES:AUSTRIA
ATTACH;FMTTYPE=image/jpeg:https://www.colybreath.com/wp-content/uploads/2025/04/BRAUNAU.jpg
ORGANIZER;CN="Gabi Fink":MAILTO:praxis@finkin.at
END:VEVENT
END:VCALENDAR